BEGIN:VCALENDAR
VERSION:2.0
PRODID:-//198.46.94.166//NONSGML kigkonsult.se iCalcreator 2.20//
CALSCALE:GREGORIAN
METHOD:PUBLISH
X-FROM-URL:https://cfcaurora.org
X-WR-TIMEZONE:America/Chicago
BEGIN:VTIMEZONE
TZID:America/Chicago
X-LIC-LOCATION:America/Chicago
BEGIN:STANDARD
DTSTART:20251102T020000
TZOFFSETFROM:-0500
TZOFFSETTO:-0600
RDATE:20261101T020000
TZNAME:CST
END:STANDARD
BEGIN:DAYLIGHT
DTSTART:20260308T020000
TZOFFSETFROM:-0600
TZOFFSETTO:-0500
TZNAME:CDT
END:DAYLIGHT
END:VTIMEZONE
BEGIN:VEVENT
UID:ai1ec-655@cfcaurora.org
DTSTAMP:20260420T154651Z
CATEGORIES;LANGUAGE=en-US:Sunday Service
CONTACT:
DESCRIPTION:
DTSTART;VALUE=DATE:20230423
DTEND;VALUE=DATE:20230424
RRULE:FREQ=MONTHLY;BYDAY=4SU
SEQUENCE:0
SUMMARY:Lord’s Supper
URL:https://cfcaurora.org/event/communion-2/
X-COST-TYPE:free
X-TAGS;LANGUAGE=en-US:communion\,lord's supper
END:VEVENT
BEGIN:VEVENT
UID:ai1ec-1994@cfcaurora.org
DTSTAMP:20260420T154651Z
CATEGORIES:
CONTACT:
DESCRIPTION:
DTSTART;VALUE=DATE:20230514
DTEND;VALUE=DATE:20230515
EXDATE;TZID=America/Chicago:20190310T000000
EXDATE;TZID=America/Chicago:20200309T000000
RRULE:FREQ=MONTHLY;BYDAY=2SU
SEQUENCE:0
SUMMARY:Lord’s Supper
URL:https://cfcaurora.org/event/communion/
X-COST-TYPE:free
END:VEVENT
BEGIN:VEVENT
UID:ai1ec-2770@cfcaurora.org
DTSTAMP:20260420T154651Z
CATEGORIES;LANGUAGE=en-US:Sunday Service
CONTACT:
DESCRIPTION:
DTSTART;TZID=America/Chicago:20230423T100000
DTEND;TZID=America/Chicago:20230423T120000
RRULE:FREQ=WEEKLY;BYDAY=SU;WKST=SU
SEQUENCE:0
SUMMARY:Worship Service
URL:https://cfcaurora.org/event/worship-service/
X-COST-TYPE:free
END:VEVENT
BEGIN:VEVENT
UID:ai1ec-656@cfcaurora.org
DTSTAMP:20260420T154651Z
CATEGORIES;LANGUAGE=en-US:Sunday Service
CONTACT:
DESCRIPTION:<p>Everyone is invited for a fellowship meal after the service.
 </p>\n<p>Please bring 1 main meal\, and 1 side dish.</p>
DTSTART;TZID=America/Chicago:20230423T113000
DTEND;TZID=America/Chicago:20230423T133000
EXDATE;TZID=America/Chicago:20140209T113000
EXDATE;TZID=America/Chicago:20190421T113000
EXDATE;TZID=America/Chicago:20200315T113000
EXDATE;TZID=America/Chicago:20200322T113000
EXDATE;TZID=America/Chicago:20200329T113000
EXDATE;TZID=America/Chicago:20200405T113000
EXDATE;TZID=America/Chicago:20200412T113000
EXDATE;TZID=America/Chicago:20200419T113000
EXDATE;TZID=America/Chicago:20200426T113000
EXDATE;TZID=America/Chicago:20200503T113000
EXDATE;TZID=America/Chicago:20200510T113000
EXDATE;TZID=America/Chicago:20200517T113000
EXDATE;TZID=America/Chicago:20200524T113000
EXDATE;TZID=America/Chicago:20200531T113000
EXDATE;TZID=America/Chicago:20200607T113000
EXDATE;TZID=America/Chicago:20200614T113000
EXDATE;TZID=America/Chicago:20200621T113000
EXDATE;TZID=America/Chicago:20200628T113000
EXDATE;TZID=America/Chicago:20200705T113000
EXDATE;TZID=America/Chicago:20200712T113000
EXDATE;TZID=America/Chicago:20200719T113000
EXDATE;TZID=America/Chicago:20200726T113000
EXDATE;TZID=America/Chicago:20200802T113000
EXDATE;TZID=America/Chicago:20200809T113000
EXDATE;TZID=America/Chicago:20200816T113000
EXDATE;TZID=America/Chicago:20200823T113000
EXDATE;TZID=America/Chicago:20200830T113000
EXDATE;TZID=America/Chicago:20200906T113000
EXDATE;TZID=America/Chicago:20200913T113000
EXDATE;TZID=America/Chicago:20200920T113000
EXDATE;TZID=America/Chicago:20200927T113000
EXDATE;TZID=America/Chicago:20201004T113000
EXDATE;TZID=America/Chicago:20201011T113000
EXDATE;TZID=America/Chicago:20201018T113000
EXDATE;TZID=America/Chicago:20201025T113000
EXDATE;TZID=America/Chicago:20201101T113000
EXDATE;TZID=America/Chicago:20201108T113000
EXDATE;TZID=America/Chicago:20201115T113000
EXDATE;TZID=America/Chicago:20201122T113000
EXDATE;TZID=America/Chicago:20201129T113000
RRULE:FREQ=WEEKLY;BYDAY=SU;WKST=SU
SEQUENCE:0
SUMMARY:Fellowship Meal
URL:https://cfcaurora.org/event/fellowship-meal/
X-COST-TYPE:free
END:VEVENT
END:VCALENDAR
